BEGIN:VCALENDAR
VERSION:2.0
PRODID:-//eventon.com NONSGML v1.0//EN
CALSCALE:GREGORIAN
METHOD:PUBLISH
BEGIN:VEVENT
UID:69e6490106265
DTSTAMP:20260420T154049Z
DTSTART:20260417T170000Z
DTEND:20260417T170000Z
LOCATION:
SUMMARY:Thurrock Primary Schools High 5 Tournament
DESCRIPTION:Thurrock Primary Schools High 5 Tournament\nhttps://setnaessex.
 co.uk/events/thurrock-primary-schools-high-5-tournament/
URL:https://setnaessex.co.uk/events/thurrock-primary-schools-high-5-tournament/
END:VEVENT
END:VCALENDAR